BEGIN:VCALENDAR
VERSION:2.0
PRODID:-//Federación Canaria de Pádel - ECPv6.15.20//NONSGML v1.0//EN
CALSCALE:GREGORIAN
METHOD:PUBLISH
X-ORIGINAL-URL:https://canariaspadel.es
X-WR-CALDESC:Eventos para Federación Canaria de Pádel
REFRESH-INTERVAL;VALUE=DURATION:PT1H
X-Robots-Tag:noindex
X-PUBLISHED-TTL:PT1H
BEGIN:VTIMEZONE
TZID:Atlantic/Canary
BEGIN:DAYLIGHT
TZOFFSETFROM:+0000
TZOFFSETTO:+0100
TZNAME:WEST
DTSTART:20240331T010000
END:DAYLIGHT
BEGIN:STANDARD
TZOFFSETFROM:+0100
TZOFFSETTO:+0000
TZNAME:WET
DTSTART:20241027T010000
END:STANDARD
BEGIN:DAYLIGHT
TZOFFSETFROM:+0000
TZOFFSETTO:+0100
TZNAME:WEST
DTSTART:20250330T010000
END:DAYLIGHT
BEGIN:STANDARD
TZOFFSETFROM:+0100
TZOFFSETTO:+0000
TZNAME:WET
DTSTART:20251026T010000
END:STANDARD
BEGIN:DAYLIGHT
TZOFFSETFROM:+0000
TZOFFSETTO:+0100
TZNAME:WEST
DTSTART:20260329T010000
END:DAYLIGHT
BEGIN:STANDARD
TZOFFSETFROM:+0100
TZOFFSETTO:+0000
TZNAME:WET
DTSTART:20261025T010000
END:STANDARD
END:VTIMEZONE
BEGIN:VEVENT
DTSTART;TZID=Atlantic/Canary:20251220T100000
DTEND;TZID=Atlantic/Canary:20251220T133000
DTSTAMP:20260420T132548
CREATED:20260121T172128Z
LAST-MODIFIED:20260122T155942Z
UID:12458-1766224800-1766237400@canariaspadel.es
SUMMARY:Tecnificación Tenerife
DESCRIPTION:
URL:https://canariaspadel.es/event/tecnificacion-tenerife-5/
LOCATION:Radazul Sport Center\, Calle Balboa\, 7\, Radazul\, Santa Cruz de Tenerife\, 38109\, Spain
CATEGORIES:Tecnificación
END:VEVENT
BEGIN:VEVENT
DTSTART;TZID=Atlantic/Canary:20251227T100000
DTEND;TZID=Atlantic/Canary:20251227T133000
DTSTAMP:20260420T132548
CREATED:20260121T172220Z
LAST-MODIFIED:20260122T155628Z
UID:12460-1766829600-1766842200@canariaspadel.es
SUMMARY:Tecnificación Gran Canaria
DESCRIPTION:
URL:https://canariaspadel.es/event/tecnificacion-gran-canaria-6/
LOCATION:Las Palmeras\, Calle Dr. Alfonso Chiscano Díaz\, Las Palmas de Gran Canaria\, 35019
CATEGORIES:Tecnificación
END:VEVENT
END:VCALENDAR