BEGIN:VCALENDAR
VERSION:2.0
PRODID:-//Federación Canaria de Pádel - ECPv6.15.20//NONSGML v1.0//EN
CALSCALE:GREGORIAN
METHOD:PUBLISH
X-WR-CALNAME:Federación Canaria de Pádel
X-ORIGINAL-URL:https://canariaspadel.es
X-WR-CALDESC:Eventos para Federación Canaria de Pádel
REFRESH-INTERVAL;VALUE=DURATION:PT1H
X-Robots-Tag:noindex
X-PUBLISHED-TTL:PT1H
BEGIN:VTIMEZONE
TZID:Atlantic/Canary
BEGIN:DAYLIGHT
TZOFFSETFROM:+0000
TZOFFSETTO:+0100
TZNAME:WEST
DTSTART:20250330T010000
END:DAYLIGHT
BEGIN:STANDARD
TZOFFSETFROM:+0100
TZOFFSETTO:+0000
TZNAME:WET
DTSTART:20251026T010000
END:STANDARD
BEGIN:DAYLIGHT
TZOFFSETFROM:+0000
TZOFFSETTO:+0100
TZNAME:WEST
DTSTART:20260329T010000
END:DAYLIGHT
BEGIN:STANDARD
TZOFFSETFROM:+0100
TZOFFSETTO:+0000
TZNAME:WET
DTSTART:20261025T010000
END:STANDARD
BEGIN:DAYLIGHT
TZOFFSETFROM:+0000
TZOFFSETTO:+0100
TZNAME:WEST
DTSTART:20270328T010000
END:DAYLIGHT
BEGIN:STANDARD
TZOFFSETFROM:+0100
TZOFFSETTO:+0000
TZNAME:WET
DTSTART:20271031T010000
END:STANDARD
END:VTIMEZONE
BEGIN:VEVENT
DTSTART;TZID=Atlantic/Canary:20261219T100000
DTEND;TZID=Atlantic/Canary:20261219T133000
DTSTAMP:20260422T164204
CREATED:20260125T211103Z
LAST-MODIFIED:20260125T211220Z
UID:12505-1797674400-1797687000@canariaspadel.es
SUMMARY:Tecnificación Tenerife
DESCRIPTION:
URL:https://canariaspadel.es/event/tecnificacion-tenerife-7/
CATEGORIES:Tecnificación
END:VEVENT
BEGIN:VEVENT
DTSTART;TZID=Atlantic/Canary:20261226T100000
DTEND;TZID=Atlantic/Canary:20261226T133000
DTSTAMP:20260422T164204
CREATED:20260125T211151Z
LAST-MODIFIED:20260125T211151Z
UID:12507-1798279200-1798291800@canariaspadel.es
SUMMARY:Tecnificación Gran Canaria
DESCRIPTION:
URL:https://canariaspadel.es/event/tecnificacion-gran-canaria-8/
CATEGORIES:Tecnificación
END:VEVENT
END:VCALENDAR